BEGIN:VCALENDAR
VERSION:2.0
PRODID:-//Norsk naturistforbund - ECPv6.15.17.1//NONSGML v1.0//EN
CALSCALE:GREGORIAN
METHOD:PUBLISH
X-WR-CALNAME:Norsk naturistforbund
X-ORIGINAL-URL:https://www.naturist.no
X-WR-CALDESC:Arrangement for Norsk naturistforbund
REFRESH-INTERVAL;VALUE=DURATION:PT1H
X-Robots-Tag:noindex
X-PUBLISHED-TTL:PT1H
BEGIN:VTIMEZONE
TZID:Europe/Oslo
BEGIN:DAYLIGHT
TZOFFSETFROM:+0100
TZOFFSETTO:+0200
TZNAME:CEST
DTSTART:20240331T010000
END:DAYLIGHT
BEGIN:STANDARD
TZOFFSETFROM:+0200
TZOFFSETTO:+0100
TZNAME:CET
DTSTART:20241027T010000
END:STANDARD
BEGIN:DAYLIGHT
TZOFFSETFROM:+0100
TZOFFSETTO:+0200
TZNAME:CEST
DTSTART:20250330T010000
END:DAYLIGHT
BEGIN:STANDARD
TZOFFSETFROM:+0200
TZOFFSETTO:+0100
TZNAME:CET
DTSTART:20251026T010000
END:STANDARD
BEGIN:DAYLIGHT
TZOFFSETFROM:+0100
TZOFFSETTO:+0200
TZNAME:CEST
DTSTART:20260329T010000
END:DAYLIGHT
BEGIN:STANDARD
TZOFFSETFROM:+0200
TZOFFSETTO:+0100
TZNAME:CET
DTSTART:20261025T010000
END:STANDARD
END:VTIMEZONE
BEGIN:VEVENT
DTSTART;TZID=Europe/Oslo:20250527T224521
DTEND;TZID=Europe/Oslo:20250527T224521
DTSTAMP:20260420T170149
CREATED:20250527T185809Z
LAST-MODIFIED:20250527T204521Z
UID:10001508-1748385921-1748385921@www.naturist.no
SUMMARY:St. Hansfeiring i Glomstadbukta
DESCRIPTION:Lørdag 21. juni samles vi til Quiz kl. 15.00. Etterpå tenner vi grillen i grillhuset og kl. 18.00 tenner vi sankthansbålet på stranda. Hvis det er noen som har lyst til å ta med gitar eller et annet instrument for allsang eller bare musikalske innslag\, er dere hjertelig velkommen til det. \nDere som skal grille: Ta med egen grillmat\, drikke\, tallerken\, bestikk og alt annet du trenger for et godt måltid.
URL:https://www.naturist.no/event/st-hansfeiring-i-glomstadbukta/
CATEGORIES:sosialt arrangement
ATTACH;FMTTYPE=image/jpeg:https://www.naturist.no/wp-content/uploads/IMG_9091-1-e1736009236480.jpeg
END:VEVENT
END:VCALENDAR