BEGIN:VCALENDAR
VERSION:2.0
PRODID:-//Norsk naturistforbund - ECPv6.15.17.1//NONSGML v1.0//EN
CALSCALE:GREGORIAN
METHOD:PUBLISH
X-WR-CALNAME:Norsk naturistforbund
X-ORIGINAL-URL:https://www.naturist.no
X-WR-CALDESC:Arrangement for Norsk naturistforbund
REFRESH-INTERVAL;VALUE=DURATION:PT1H
X-Robots-Tag:noindex
X-PUBLISHED-TTL:PT1H
BEGIN:VTIMEZONE
TZID:Europe/Oslo
BEGIN:DAYLIGHT
TZOFFSETFROM:+0100
TZOFFSETTO:+0200
TZNAME:CEST
DTSTART:20260329T010000
END:DAYLIGHT
BEGIN:STANDARD
TZOFFSETFROM:+0200
TZOFFSETTO:+0100
TZNAME:CET
DTSTART:20261025T010000
END:STANDARD
BEGIN:DAYLIGHT
TZOFFSETFROM:+0100
TZOFFSETTO:+0200
TZNAME:CEST
DTSTART:20270328T010000
END:DAYLIGHT
BEGIN:STANDARD
TZOFFSETFROM:+0200
TZOFFSETTO:+0100
TZNAME:CET
DTSTART:20271031T010000
END:STANDARD
BEGIN:DAYLIGHT
TZOFFSETFROM:+0100
TZOFFSETTO:+0200
TZNAME:CEST
DTSTART:20280326T010000
END:DAYLIGHT
BEGIN:STANDARD
TZOFFSETFROM:+0200
TZOFFSETTO:+0100
TZNAME:CET
DTSTART:20281029T010000
END:STANDARD
BEGIN:DAYLIGHT
TZOFFSETFROM:+0100
TZOFFSETTO:+0200
TZNAME:CEST
DTSTART:20290325T010000
END:DAYLIGHT
BEGIN:STANDARD
TZOFFSETFROM:+0200
TZOFFSETTO:+0100
TZNAME:CET
DTSTART:20291028T010000
END:STANDARD
END:VTIMEZONE
BEGIN:VEVENT
DTSTART;TZID=Europe/Oslo:20270615T190000
DTEND;TZID=Europe/Oslo:20270615T200000
DTSTAMP:20260421T073640
CREATED:20250826T104537Z
LAST-MODIFIED:20260122T074439Z
UID:10002093-1813086000-1813089600@www.naturist.no
SUMMARY:Innebading Egge Helsetun Høst 2025
DESCRIPTION:Vi starter opp innebadingen på Egge. Første badedag blir 9 september kl 1900-2000.\nBadetidene blir som før.\nOddetall uker kl 1900-2000.\nVelkommen\n\nBjørn
URL:https://www.naturist.no/event/innebading-egge-helsetun-host-2025/2027-06-15/
LOCATION:Egge helsetun\, Markavegen 1\, Steinkjer\, 7715\, Norway
CATEGORIES:innebading
ATTACH;FMTTYPE=image/jpeg:https://www.naturist.no/wp-content/uploads/DSCN0671-scaled-e1769067870850.jpg
END:VEVENT
BEGIN:VEVENT
DTSTART;TZID=Europe/Oslo:20270629T190000
DTEND;TZID=Europe/Oslo:20270629T200000
DTSTAMP:20260421T073640
CREATED:20250826T104537Z
LAST-MODIFIED:20260122T074439Z
UID:10002094-1814295600-1814299200@www.naturist.no
SUMMARY:Innebading Egge Helsetun Høst 2025
DESCRIPTION:Vi starter opp innebadingen på Egge. Første badedag blir 9 september kl 1900-2000.\nBadetidene blir som før.\nOddetall uker kl 1900-2000.\nVelkommen\n\nBjørn
URL:https://www.naturist.no/event/innebading-egge-helsetun-host-2025/2027-06-29/
LOCATION:Egge helsetun\, Markavegen 1\, Steinkjer\, 7715\, Norway
CATEGORIES:innebading
ATTACH;FMTTYPE=image/jpeg:https://www.naturist.no/wp-content/uploads/DSCN0671-scaled-e1769067870850.jpg
END:VEVENT
BEGIN:VEVENT
DTSTART;TZID=Europe/Oslo:20270713T190000
DTEND;TZID=Europe/Oslo:20270713T200000
DTSTAMP:20260421T073640
CREATED:20250826T104537Z
LAST-MODIFIED:20260122T074439Z
UID:10002095-1815505200-1815508800@www.naturist.no
SUMMARY:Innebading Egge Helsetun Høst 2025
DESCRIPTION:Vi starter opp innebadingen på Egge. Første badedag blir 9 september kl 1900-2000.\nBadetidene blir som før.\nOddetall uker kl 1900-2000.\nVelkommen\n\nBjørn
URL:https://www.naturist.no/event/innebading-egge-helsetun-host-2025/2027-07-13/
LOCATION:Egge helsetun\, Markavegen 1\, Steinkjer\, 7715\, Norway
CATEGORIES:innebading
ATTACH;FMTTYPE=image/jpeg:https://www.naturist.no/wp-content/uploads/DSCN0671-scaled-e1769067870850.jpg
END:VEVENT
BEGIN:VEVENT
DTSTART;TZID=Europe/Oslo:20270727T190000
DTEND;TZID=Europe/Oslo:20270727T200000
DTSTAMP:20260421T073640
CREATED:20250826T104537Z
LAST-MODIFIED:20260122T074439Z
UID:10002096-1816714800-1816718400@www.naturist.no
SUMMARY:Innebading Egge Helsetun Høst 2025
DESCRIPTION:Vi starter opp innebadingen på Egge. Første badedag blir 9 september kl 1900-2000.\nBadetidene blir som før.\nOddetall uker kl 1900-2000.\nVelkommen\n\nBjørn
URL:https://www.naturist.no/event/innebading-egge-helsetun-host-2025/2027-07-27/
LOCATION:Egge helsetun\, Markavegen 1\, Steinkjer\, 7715\, Norway
CATEGORIES:innebading
ATTACH;FMTTYPE=image/jpeg:https://www.naturist.no/wp-content/uploads/DSCN0671-scaled-e1769067870850.jpg
END:VEVENT
BEGIN:VEVENT
DTSTART;TZID=Europe/Oslo:20270810T190000
DTEND;TZID=Europe/Oslo:20270810T200000
DTSTAMP:20260421T073640
CREATED:20250826T104537Z
LAST-MODIFIED:20260122T074439Z
UID:10002097-1817924400-1817928000@www.naturist.no
SUMMARY:Innebading Egge Helsetun Høst 2025
DESCRIPTION:Vi starter opp innebadingen på Egge. Første badedag blir 9 september kl 1900-2000.\nBadetidene blir som før.\nOddetall uker kl 1900-2000.\nVelkommen\n\nBjørn
URL:https://www.naturist.no/event/innebading-egge-helsetun-host-2025/2027-08-10/
LOCATION:Egge helsetun\, Markavegen 1\, Steinkjer\, 7715\, Norway
CATEGORIES:innebading
ATTACH;FMTTYPE=image/jpeg:https://www.naturist.no/wp-content/uploads/DSCN0671-scaled-e1769067870850.jpg
END:VEVENT
BEGIN:VEVENT
DTSTART;TZID=Europe/Oslo:20270824T190000
DTEND;TZID=Europe/Oslo:20270824T200000
DTSTAMP:20260421T073640
CREATED:20250826T104537Z
LAST-MODIFIED:20260122T074439Z
UID:10002098-1819134000-1819137600@www.naturist.no
SUMMARY:Innebading Egge Helsetun Høst 2025
DESCRIPTION:Vi starter opp innebadingen på Egge. Første badedag blir 9 september kl 1900-2000.\nBadetidene blir som før.\nOddetall uker kl 1900-2000.\nVelkommen\n\nBjørn
URL:https://www.naturist.no/event/innebading-egge-helsetun-host-2025/2027-08-24/
LOCATION:Egge helsetun\, Markavegen 1\, Steinkjer\, 7715\, Norway
CATEGORIES:innebading
ATTACH;FMTTYPE=image/jpeg:https://www.naturist.no/wp-content/uploads/DSCN0671-scaled-e1769067870850.jpg
END:VEVENT
BEGIN:VEVENT
DTSTART;TZID=Europe/Oslo:20270907T190000
DTEND;TZID=Europe/Oslo:20270907T200000
DTSTAMP:20260421T073640
CREATED:20250826T104537Z
LAST-MODIFIED:20260122T074439Z
UID:10002099-1820343600-1820347200@www.naturist.no
SUMMARY:Innebading Egge Helsetun Høst 2025
DESCRIPTION:Vi starter opp innebadingen på Egge. Første badedag blir 9 september kl 1900-2000.\nBadetidene blir som før.\nOddetall uker kl 1900-2000.\nVelkommen\n\nBjørn
URL:https://www.naturist.no/event/innebading-egge-helsetun-host-2025/2027-09-07/
LOCATION:Egge helsetun\, Markavegen 1\, Steinkjer\, 7715\, Norway
CATEGORIES:innebading
ATTACH;FMTTYPE=image/jpeg:https://www.naturist.no/wp-content/uploads/DSCN0671-scaled-e1769067870850.jpg
END:VEVENT
BEGIN:VEVENT
DTSTART;TZID=Europe/Oslo:20270921T190000
DTEND;TZID=Europe/Oslo:20270921T200000
DTSTAMP:20260421T073640
CREATED:20250826T104537Z
LAST-MODIFIED:20260122T074439Z
UID:10002100-1821553200-1821556800@www.naturist.no
SUMMARY:Innebading Egge Helsetun Høst 2025
DESCRIPTION:Vi starter opp innebadingen på Egge. Første badedag blir 9 september kl 1900-2000.\nBadetidene blir som før.\nOddetall uker kl 1900-2000.\nVelkommen\n\nBjørn
URL:https://www.naturist.no/event/innebading-egge-helsetun-host-2025/2027-09-21/
LOCATION:Egge helsetun\, Markavegen 1\, Steinkjer\, 7715\, Norway
CATEGORIES:innebading
ATTACH;FMTTYPE=image/jpeg:https://www.naturist.no/wp-content/uploads/DSCN0671-scaled-e1769067870850.jpg
END:VEVENT
BEGIN:VEVENT
DTSTART;TZID=Europe/Oslo:20271005T190000
DTEND;TZID=Europe/Oslo:20271005T200000
DTSTAMP:20260421T073640
CREATED:20250826T104537Z
LAST-MODIFIED:20260122T074439Z
UID:10002101-1822762800-1822766400@www.naturist.no
SUMMARY:Innebading Egge Helsetun Høst 2025
DESCRIPTION:Vi starter opp innebadingen på Egge. Første badedag blir 9 september kl 1900-2000.\nBadetidene blir som før.\nOddetall uker kl 1900-2000.\nVelkommen\n\nBjørn
URL:https://www.naturist.no/event/innebading-egge-helsetun-host-2025/2027-10-05/
LOCATION:Egge helsetun\, Markavegen 1\, Steinkjer\, 7715\, Norway
CATEGORIES:innebading
ATTACH;FMTTYPE=image/jpeg:https://www.naturist.no/wp-content/uploads/DSCN0671-scaled-e1769067870850.jpg
END:VEVENT
BEGIN:VEVENT
DTSTART;TZID=Europe/Oslo:20271019T190000
DTEND;TZID=Europe/Oslo:20271019T200000
DTSTAMP:20260421T073640
CREATED:20250826T104537Z
LAST-MODIFIED:20260122T074439Z
UID:10002102-1823972400-1823976000@www.naturist.no
SUMMARY:Innebading Egge Helsetun Høst 2025
DESCRIPTION:Vi starter opp innebadingen på Egge. Første badedag blir 9 september kl 1900-2000.\nBadetidene blir som før.\nOddetall uker kl 1900-2000.\nVelkommen\n\nBjørn
URL:https://www.naturist.no/event/innebading-egge-helsetun-host-2025/2027-10-19/
LOCATION:Egge helsetun\, Markavegen 1\, Steinkjer\, 7715\, Norway
CATEGORIES:innebading
ATTACH;FMTTYPE=image/jpeg:https://www.naturist.no/wp-content/uploads/DSCN0671-scaled-e1769067870850.jpg
END:VEVENT
BEGIN:VEVENT
DTSTART;TZID=Europe/Oslo:20271102T190000
DTEND;TZID=Europe/Oslo:20271102T200000
DTSTAMP:20260421T073640
CREATED:20250826T104537Z
LAST-MODIFIED:20260122T074439Z
UID:10002103-1825182000-1825185600@www.naturist.no
SUMMARY:Innebading Egge Helsetun Høst 2025
DESCRIPTION:Vi starter opp innebadingen på Egge. Første badedag blir 9 september kl 1900-2000.\nBadetidene blir som før.\nOddetall uker kl 1900-2000.\nVelkommen\n\nBjørn
URL:https://www.naturist.no/event/innebading-egge-helsetun-host-2025/2027-11-02/
LOCATION:Egge helsetun\, Markavegen 1\, Steinkjer\, 7715\, Norway
CATEGORIES:innebading
ATTACH;FMTTYPE=image/jpeg:https://www.naturist.no/wp-content/uploads/DSCN0671-scaled-e1769067870850.jpg
END:VEVENT
BEGIN:VEVENT
DTSTART;TZID=Europe/Oslo:20271116T190000
DTEND;TZID=Europe/Oslo:20271116T200000
DTSTAMP:20260421T073640
CREATED:20250826T104537Z
LAST-MODIFIED:20260122T074439Z
UID:10002104-1826391600-1826395200@www.naturist.no
SUMMARY:Innebading Egge Helsetun Høst 2025
DESCRIPTION:Vi starter opp innebadingen på Egge. Første badedag blir 9 september kl 1900-2000.\nBadetidene blir som før.\nOddetall uker kl 1900-2000.\nVelkommen\n\nBjørn
URL:https://www.naturist.no/event/innebading-egge-helsetun-host-2025/2027-11-16/
LOCATION:Egge helsetun\, Markavegen 1\, Steinkjer\, 7715\, Norway
CATEGORIES:innebading
ATTACH;FMTTYPE=image/jpeg:https://www.naturist.no/wp-content/uploads/DSCN0671-scaled-e1769067870850.jpg
END:VEVENT
BEGIN:VEVENT
DTSTART;TZID=Europe/Oslo:20271130T190000
DTEND;TZID=Europe/Oslo:20271130T200000
DTSTAMP:20260421T073640
CREATED:20250826T104537Z
LAST-MODIFIED:20260122T074439Z
UID:10002105-1827601200-1827604800@www.naturist.no
SUMMARY:Innebading Egge Helsetun Høst 2025
DESCRIPTION:Vi starter opp innebadingen på Egge. Første badedag blir 9 september kl 1900-2000.\nBadetidene blir som før.\nOddetall uker kl 1900-2000.\nVelkommen\n\nBjørn
URL:https://www.naturist.no/event/innebading-egge-helsetun-host-2025/2027-11-30/
LOCATION:Egge helsetun\, Markavegen 1\, Steinkjer\, 7715\, Norway
CATEGORIES:innebading
ATTACH;FMTTYPE=image/jpeg:https://www.naturist.no/wp-content/uploads/DSCN0671-scaled-e1769067870850.jpg
END:VEVENT
BEGIN:VEVENT
DTSTART;TZID=Europe/Oslo:20271214T190000
DTEND;TZID=Europe/Oslo:20271214T200000
DTSTAMP:20260421T073640
CREATED:20250826T104537Z
LAST-MODIFIED:20260122T074439Z
UID:10002106-1828810800-1828814400@www.naturist.no
SUMMARY:Innebading Egge Helsetun Høst 2025
DESCRIPTION:Vi starter opp innebadingen på Egge. Første badedag blir 9 september kl 1900-2000.\nBadetidene blir som før.\nOddetall uker kl 1900-2000.\nVelkommen\n\nBjørn
URL:https://www.naturist.no/event/innebading-egge-helsetun-host-2025/2027-12-14/
LOCATION:Egge helsetun\, Markavegen 1\, Steinkjer\, 7715\, Norway
CATEGORIES:innebading
ATTACH;FMTTYPE=image/jpeg:https://www.naturist.no/wp-content/uploads/DSCN0671-scaled-e1769067870850.jpg
END:VEVENT
BEGIN:VEVENT
DTSTART;TZID=Europe/Oslo:20271228T190000
DTEND;TZID=Europe/Oslo:20271228T200000
DTSTAMP:20260421T073640
CREATED:20250826T104537Z
LAST-MODIFIED:20260122T074439Z
UID:10002107-1830020400-1830024000@www.naturist.no
SUMMARY:Innebading Egge Helsetun Høst 2025
DESCRIPTION:Vi starter opp innebadingen på Egge. Første badedag blir 9 september kl 1900-2000.\nBadetidene blir som før.\nOddetall uker kl 1900-2000.\nVelkommen\n\nBjørn
URL:https://www.naturist.no/event/innebading-egge-helsetun-host-2025/2027-12-28/
LOCATION:Egge helsetun\, Markavegen 1\, Steinkjer\, 7715\, Norway
CATEGORIES:innebading
ATTACH;FMTTYPE=image/jpeg:https://www.naturist.no/wp-content/uploads/DSCN0671-scaled-e1769067870850.jpg
END:VEVENT
BEGIN:VEVENT
DTSTART;TZID=Europe/Oslo:20280111T190000
DTEND;TZID=Europe/Oslo:20280111T200000
DTSTAMP:20260421T073640
CREATED:20250826T104537Z
LAST-MODIFIED:20260122T074439Z
UID:10002108-1831230000-1831233600@www.naturist.no
SUMMARY:Innebading Egge Helsetun Høst 2025
DESCRIPTION:Vi starter opp innebadingen på Egge. Første badedag blir 9 september kl 1900-2000.\nBadetidene blir som før.\nOddetall uker kl 1900-2000.\nVelkommen\n\nBjørn
URL:https://www.naturist.no/event/innebading-egge-helsetun-host-2025/2028-01-11/
LOCATION:Egge helsetun\, Markavegen 1\, Steinkjer\, 7715\, Norway
CATEGORIES:innebading
ATTACH;FMTTYPE=image/jpeg:https://www.naturist.no/wp-content/uploads/DSCN0671-scaled-e1769067870850.jpg
END:VEVENT
BEGIN:VEVENT
DTSTART;TZID=Europe/Oslo:20280125T190000
DTEND;TZID=Europe/Oslo:20280125T200000
DTSTAMP:20260421T073640
CREATED:20250826T104537Z
LAST-MODIFIED:20260122T074439Z
UID:10002109-1832439600-1832443200@www.naturist.no
SUMMARY:Innebading Egge Helsetun Høst 2025
DESCRIPTION:Vi starter opp innebadingen på Egge. Første badedag blir 9 september kl 1900-2000.\nBadetidene blir som før.\nOddetall uker kl 1900-2000.\nVelkommen\n\nBjørn
URL:https://www.naturist.no/event/innebading-egge-helsetun-host-2025/2028-01-25/
LOCATION:Egge helsetun\, Markavegen 1\, Steinkjer\, 7715\, Norway
CATEGORIES:innebading
ATTACH;FMTTYPE=image/jpeg:https://www.naturist.no/wp-content/uploads/DSCN0671-scaled-e1769067870850.jpg
END:VEVENT
BEGIN:VEVENT
DTSTART;TZID=Europe/Oslo:20280208T190000
DTEND;TZID=Europe/Oslo:20280208T200000
DTSTAMP:20260421T073640
CREATED:20250826T104537Z
LAST-MODIFIED:20260122T074439Z
UID:10002110-1833649200-1833652800@www.naturist.no
SUMMARY:Innebading Egge Helsetun Høst 2025
DESCRIPTION:Vi starter opp innebadingen på Egge. Første badedag blir 9 september kl 1900-2000.\nBadetidene blir som før.\nOddetall uker kl 1900-2000.\nVelkommen\n\nBjørn
URL:https://www.naturist.no/event/innebading-egge-helsetun-host-2025/2028-02-08/
LOCATION:Egge helsetun\, Markavegen 1\, Steinkjer\, 7715\, Norway
CATEGORIES:innebading
ATTACH;FMTTYPE=image/jpeg:https://www.naturist.no/wp-content/uploads/DSCN0671-scaled-e1769067870850.jpg
END:VEVENT
BEGIN:VEVENT
DTSTART;TZID=Europe/Oslo:20280222T190000
DTEND;TZID=Europe/Oslo:20280222T200000
DTSTAMP:20260421T073640
CREATED:20250826T104537Z
LAST-MODIFIED:20260122T074439Z
UID:10002111-1834858800-1834862400@www.naturist.no
SUMMARY:Innebading Egge Helsetun Høst 2025
DESCRIPTION:Vi starter opp innebadingen på Egge. Første badedag blir 9 september kl 1900-2000.\nBadetidene blir som før.\nOddetall uker kl 1900-2000.\nVelkommen\n\nBjørn
URL:https://www.naturist.no/event/innebading-egge-helsetun-host-2025/2028-02-22/
LOCATION:Egge helsetun\, Markavegen 1\, Steinkjer\, 7715\, Norway
CATEGORIES:innebading
ATTACH;FMTTYPE=image/jpeg:https://www.naturist.no/wp-content/uploads/DSCN0671-scaled-e1769067870850.jpg
END:VEVENT
BEGIN:VEVENT
DTSTART;TZID=Europe/Oslo:20280307T190000
DTEND;TZID=Europe/Oslo:20280307T200000
DTSTAMP:20260421T073640
CREATED:20250826T104537Z
LAST-MODIFIED:20260122T074439Z
UID:10002112-1836068400-1836072000@www.naturist.no
SUMMARY:Innebading Egge Helsetun Høst 2025
DESCRIPTION:Vi starter opp innebadingen på Egge. Første badedag blir 9 september kl 1900-2000.\nBadetidene blir som før.\nOddetall uker kl 1900-2000.\nVelkommen\n\nBjørn
URL:https://www.naturist.no/event/innebading-egge-helsetun-host-2025/2028-03-07/
LOCATION:Egge helsetun\, Markavegen 1\, Steinkjer\, 7715\, Norway
CATEGORIES:innebading
ATTACH;FMTTYPE=image/jpeg:https://www.naturist.no/wp-content/uploads/DSCN0671-scaled-e1769067870850.jpg
END:VEVENT
BEGIN:VEVENT
DTSTART;TZID=Europe/Oslo:20280321T190000
DTEND;TZID=Europe/Oslo:20280321T200000
DTSTAMP:20260421T073640
CREATED:20250826T104537Z
LAST-MODIFIED:20260122T074439Z
UID:10002113-1837278000-1837281600@www.naturist.no
SUMMARY:Innebading Egge Helsetun Høst 2025
DESCRIPTION:Vi starter opp innebadingen på Egge. Første badedag blir 9 september kl 1900-2000.\nBadetidene blir som før.\nOddetall uker kl 1900-2000.\nVelkommen\n\nBjørn
URL:https://www.naturist.no/event/innebading-egge-helsetun-host-2025/2028-03-21/
LOCATION:Egge helsetun\, Markavegen 1\, Steinkjer\, 7715\, Norway
CATEGORIES:innebading
ATTACH;FMTTYPE=image/jpeg:https://www.naturist.no/wp-content/uploads/DSCN0671-scaled-e1769067870850.jpg
END:VEVENT
BEGIN:VEVENT
DTSTART;TZID=Europe/Oslo:20280404T190000
DTEND;TZID=Europe/Oslo:20280404T200000
DTSTAMP:20260421T073640
CREATED:20250826T104537Z
LAST-MODIFIED:20260122T074439Z
UID:10002114-1838487600-1838491200@www.naturist.no
SUMMARY:Innebading Egge Helsetun Høst 2025
DESCRIPTION:Vi starter opp innebadingen på Egge. Første badedag blir 9 september kl 1900-2000.\nBadetidene blir som før.\nOddetall uker kl 1900-2000.\nVelkommen\n\nBjørn
URL:https://www.naturist.no/event/innebading-egge-helsetun-host-2025/2028-04-04/
LOCATION:Egge helsetun\, Markavegen 1\, Steinkjer\, 7715\, Norway
CATEGORIES:innebading
ATTACH;FMTTYPE=image/jpeg:https://www.naturist.no/wp-content/uploads/DSCN0671-scaled-e1769067870850.jpg
END:VEVENT
BEGIN:VEVENT
DTSTART;TZID=Europe/Oslo:20280418T190000
DTEND;TZID=Europe/Oslo:20280418T200000
DTSTAMP:20260421T073640
CREATED:20250826T104537Z
LAST-MODIFIED:20260122T074439Z
UID:10002115-1839697200-1839700800@www.naturist.no
SUMMARY:Innebading Egge Helsetun Høst 2025
DESCRIPTION:Vi starter opp innebadingen på Egge. Første badedag blir 9 september kl 1900-2000.\nBadetidene blir som før.\nOddetall uker kl 1900-2000.\nVelkommen\n\nBjørn
URL:https://www.naturist.no/event/innebading-egge-helsetun-host-2025/2028-04-18/
LOCATION:Egge helsetun\, Markavegen 1\, Steinkjer\, 7715\, Norway
CATEGORIES:innebading
ATTACH;FMTTYPE=image/jpeg:https://www.naturist.no/wp-content/uploads/DSCN0671-scaled-e1769067870850.jpg
END:VEVENT
BEGIN:VEVENT
DTSTART;TZID=Europe/Oslo:20280502T190000
DTEND;TZID=Europe/Oslo:20280502T200000
DTSTAMP:20260421T073640
CREATED:20250826T104537Z
LAST-MODIFIED:20260122T074439Z
UID:10002116-1840906800-1840910400@www.naturist.no
SUMMARY:Innebading Egge Helsetun Høst 2025
DESCRIPTION:Vi starter opp innebadingen på Egge. Første badedag blir 9 september kl 1900-2000.\nBadetidene blir som før.\nOddetall uker kl 1900-2000.\nVelkommen\n\nBjørn
URL:https://www.naturist.no/event/innebading-egge-helsetun-host-2025/2028-05-02/
LOCATION:Egge helsetun\, Markavegen 1\, Steinkjer\, 7715\, Norway
CATEGORIES:innebading
ATTACH;FMTTYPE=image/jpeg:https://www.naturist.no/wp-content/uploads/DSCN0671-scaled-e1769067870850.jpg
END:VEVENT
BEGIN:VEVENT
DTSTART;TZID=Europe/Oslo:20280516T190000
DTEND;TZID=Europe/Oslo:20280516T200000
DTSTAMP:20260421T073640
CREATED:20250826T104537Z
LAST-MODIFIED:20260122T074439Z
UID:10002117-1842116400-1842120000@www.naturist.no
SUMMARY:Innebading Egge Helsetun Høst 2025
DESCRIPTION:Vi starter opp innebadingen på Egge. Første badedag blir 9 september kl 1900-2000.\nBadetidene blir som før.\nOddetall uker kl 1900-2000.\nVelkommen\n\nBjørn
URL:https://www.naturist.no/event/innebading-egge-helsetun-host-2025/2028-05-16/
LOCATION:Egge helsetun\, Markavegen 1\, Steinkjer\, 7715\, Norway
CATEGORIES:innebading
ATTACH;FMTTYPE=image/jpeg:https://www.naturist.no/wp-content/uploads/DSCN0671-scaled-e1769067870850.jpg
END:VEVENT
BEGIN:VEVENT
DTSTART;TZID=Europe/Oslo:20280530T190000
DTEND;TZID=Europe/Oslo:20280530T200000
DTSTAMP:20260421T073640
CREATED:20250826T104537Z
LAST-MODIFIED:20260122T074439Z
UID:10002118-1843326000-1843329600@www.naturist.no
SUMMARY:Innebading Egge Helsetun Høst 2025
DESCRIPTION:Vi starter opp innebadingen på Egge. Første badedag blir 9 september kl 1900-2000.\nBadetidene blir som før.\nOddetall uker kl 1900-2000.\nVelkommen\n\nBjørn
URL:https://www.naturist.no/event/innebading-egge-helsetun-host-2025/2028-05-30/
LOCATION:Egge helsetun\, Markavegen 1\, Steinkjer\, 7715\, Norway
CATEGORIES:innebading
ATTACH;FMTTYPE=image/jpeg:https://www.naturist.no/wp-content/uploads/DSCN0671-scaled-e1769067870850.jpg
END:VEVENT
BEGIN:VEVENT
DTSTART;TZID=Europe/Oslo:20280613T190000
DTEND;TZID=Europe/Oslo:20280613T200000
DTSTAMP:20260421T073640
CREATED:20250826T104537Z
LAST-MODIFIED:20260122T074439Z
UID:10002119-1844535600-1844539200@www.naturist.no
SUMMARY:Innebading Egge Helsetun Høst 2025
DESCRIPTION:Vi starter opp innebadingen på Egge. Første badedag blir 9 september kl 1900-2000.\nBadetidene blir som før.\nOddetall uker kl 1900-2000.\nVelkommen\n\nBjørn
URL:https://www.naturist.no/event/innebading-egge-helsetun-host-2025/2028-06-13/
LOCATION:Egge helsetun\, Markavegen 1\, Steinkjer\, 7715\, Norway
CATEGORIES:innebading
ATTACH;FMTTYPE=image/jpeg:https://www.naturist.no/wp-content/uploads/DSCN0671-scaled-e1769067870850.jpg
END:VEVENT
BEGIN:VEVENT
DTSTART;TZID=Europe/Oslo:20280627T190000
DTEND;TZID=Europe/Oslo:20280627T200000
DTSTAMP:20260421T073640
CREATED:20250826T104537Z
LAST-MODIFIED:20260122T074439Z
UID:10002120-1845745200-1845748800@www.naturist.no
SUMMARY:Innebading Egge Helsetun Høst 2025
DESCRIPTION:Vi starter opp innebadingen på Egge. Første badedag blir 9 september kl 1900-2000.\nBadetidene blir som før.\nOddetall uker kl 1900-2000.\nVelkommen\n\nBjørn
URL:https://www.naturist.no/event/innebading-egge-helsetun-host-2025/2028-06-27/
LOCATION:Egge helsetun\, Markavegen 1\, Steinkjer\, 7715\, Norway
CATEGORIES:innebading
ATTACH;FMTTYPE=image/jpeg:https://www.naturist.no/wp-content/uploads/DSCN0671-scaled-e1769067870850.jpg
END:VEVENT
BEGIN:VEVENT
DTSTART;TZID=Europe/Oslo:20280711T190000
DTEND;TZID=Europe/Oslo:20280711T200000
DTSTAMP:20260421T073640
CREATED:20250826T104537Z
LAST-MODIFIED:20260122T074439Z
UID:10002121-1846954800-1846958400@www.naturist.no
SUMMARY:Innebading Egge Helsetun Høst 2025
DESCRIPTION:Vi starter opp innebadingen på Egge. Første badedag blir 9 september kl 1900-2000.\nBadetidene blir som før.\nOddetall uker kl 1900-2000.\nVelkommen\n\nBjørn
URL:https://www.naturist.no/event/innebading-egge-helsetun-host-2025/2028-07-11/
LOCATION:Egge helsetun\, Markavegen 1\, Steinkjer\, 7715\, Norway
CATEGORIES:innebading
ATTACH;FMTTYPE=image/jpeg:https://www.naturist.no/wp-content/uploads/DSCN0671-scaled-e1769067870850.jpg
END:VEVENT
BEGIN:VEVENT
DTSTART;TZID=Europe/Oslo:20280725T190000
DTEND;TZID=Europe/Oslo:20280725T200000
DTSTAMP:20260421T073640
CREATED:20250826T104537Z
LAST-MODIFIED:20260122T074439Z
UID:10002122-1848164400-1848168000@www.naturist.no
SUMMARY:Innebading Egge Helsetun Høst 2025
DESCRIPTION:Vi starter opp innebadingen på Egge. Første badedag blir 9 september kl 1900-2000.\nBadetidene blir som før.\nOddetall uker kl 1900-2000.\nVelkommen\n\nBjørn
URL:https://www.naturist.no/event/innebading-egge-helsetun-host-2025/2028-07-25/
LOCATION:Egge helsetun\, Markavegen 1\, Steinkjer\, 7715\, Norway
CATEGORIES:innebading
ATTACH;FMTTYPE=image/jpeg:https://www.naturist.no/wp-content/uploads/DSCN0671-scaled-e1769067870850.jpg
END:VEVENT
END:VCALENDAR